BEGIN:VCALENDAR
VERSION:2.0
PRODID:-//Mallaskosken Panimoravintola - ECPv6.15.20//NONSGML v1.0//EN
CALSCALE:GREGORIAN
METHOD:PUBLISH
X-ORIGINAL-URL:https://www.mallaskoskenpanimoravintola.fi
X-WR-CALDESC:Tapahtumat Mallaskosken Panimoravintola
REFRESH-INTERVAL;VALUE=DURATION:PT1H
X-Robots-Tag:noindex
X-PUBLISHED-TTL:PT1H
BEGIN:VTIMEZONE
TZID:Europe/Helsinki
BEGIN:DAYLIGHT
TZOFFSETFROM:+0200
TZOFFSETTO:+0300
TZNAME:EEST
DTSTART:20240331T010000
END:DAYLIGHT
BEGIN:STANDARD
TZOFFSETFROM:+0300
TZOFFSETTO:+0200
TZNAME:EET
DTSTART:20241027T010000
END:STANDARD
BEGIN:DAYLIGHT
TZOFFSETFROM:+0200
TZOFFSETTO:+0300
TZNAME:EEST
DTSTART:20250330T010000
END:DAYLIGHT
BEGIN:STANDARD
TZOFFSETFROM:+0300
TZOFFSETTO:+0200
TZNAME:EET
DTSTART:20251026T010000
END:STANDARD
BEGIN:DAYLIGHT
TZOFFSETFROM:+0200
TZOFFSETTO:+0300
TZNAME:EEST
DTSTART:20260329T010000
END:DAYLIGHT
BEGIN:STANDARD
TZOFFSETFROM:+0300
TZOFFSETTO:+0200
TZNAME:EET
DTSTART:20261025T010000
END:STANDARD
END:VTIMEZONE
BEGIN:VEVENT
DTSTART;TZID=Europe/Helsinki:20250801T200000
DTEND;TZID=Europe/Helsinki:20250801T220000
DTSTAMP:20260419T212138
CREATED:20250608T073452Z
LAST-MODIFIED:20250608T073452Z
UID:7154-1754078400-1754085600@www.mallaskoskenpanimoravintola.fi
SUMMARY:Sameli Rajala 50 v
DESCRIPTION:
URL:https://www.mallaskoskenpanimoravintola.fi/tapahtuma/sameli-rajala-50-v/
LOCATION:Mallaskosken Panimoravintola\, Vesitorninkatu 1\, Seinäjoki\, Etelä-pohjanmaa\, 60100\, Suomi
CATEGORIES:Musiikki
ORGANIZER;CN="Mallaskosken Panimoravintola":MAILTO:ravintola@panimoravinto.la
END:VEVENT
BEGIN:VEVENT
DTSTART;TZID=Europe/Helsinki:20250802T180000
DTEND;TZID=Europe/Helsinki:20250802T230000
DTSTAMP:20260419T212138
CREATED:20240503T160614Z
LAST-MODIFIED:20250321T083513Z
UID:6836-1754157600-1754175600@www.mallaskoskenpanimoravintola.fi
SUMMARY:Lakeus Punk Fest
DESCRIPTION:Ilmainen sisäänpääsy. \nKeikat alkaa klo 18 \nOhjelmisto päivittyy myöhemmin.
URL:https://www.mallaskoskenpanimoravintola.fi/tapahtuma/lakeus-punk-fest/
LOCATION:Mallaskosken Panimoravintola\, Vesitorninkatu 1\, Seinäjoki\, Etelä-pohjanmaa\, 60100\, Suomi
CATEGORIES:Musiikki
ORGANIZER;CN="Lakeus Punk ry":MAILTO:lakeuspunk@gmail.com
END:VEVENT
BEGIN:VEVENT
DTSTART;TZID=Europe/Helsinki:20250809T150000
DTEND;TZID=Europe/Helsinki:20250809T230000
DTSTAMP:20260419T212138
CREATED:20240503T160456Z
LAST-MODIFIED:20250805T094811Z
UID:6834-1754751600-1754780400@www.mallaskoskenpanimoravintola.fi
SUMMARY:Vanhat seinäjokelaiset
DESCRIPTION:Vanhat seinäjokelaiset Bileet on aktiivisten\, myöhäiskeski-ikäisten ihmisten luoma kulttuuripainotteinen tapahtuma nostalgia-nälän tyydyttämiseen.Talkooperinteellä on juuret syvällä perimässämme ja niinpä tämäkin tapahtuma on toteutettu yhteistoimin jo kymmenenä kesänä.Monipuolinen musiikki on keskeisessä roolissa illan tapahtumassa\, juhlahan aikoinaan rakentui vanhojen bändien uudelleen kokoontumisen myötä. Vanhat konkarit kokoontuvat jälleen soittamaan yhdessä.Koska meitä juhlavieraita saapuu kotikaupungin lisäksi kaikkialta Suomesta ja ulkomaita myöden\, pidetään luokkakokouksia ja sukukokouksia usein saman viikonlopun yhteydessä.Ohjelman järjestelyyn osallistuu aktiivisesti vuosittain (osittain vaihtuvat) 30 – 70 henkilöä ja itse juhlaan osallistuu n. 400 – 700 ihmistä.”Vanhatseinäjokelaiset”-facebook-sivusto on merkittävä toimija tapahtuman taustalla tuomassa näkyvyyttä.
URL:https://www.mallaskoskenpanimoravintola.fi/tapahtuma/vanhat-seinajokelaaset-10v/
LOCATION:Mallaskosken Panimoravintola\, Vesitorninkatu 1\, Seinäjoki\, Etelä-pohjanmaa\, 60100\, Suomi
CATEGORIES:Musiikki
ORGANIZER;CN="Mallaskosken Panimoravintola":MAILTO:ravintola@panimoravinto.la
END:VEVENT
BEGIN:VEVENT
DTSTART;TZID=Europe/Helsinki:20251010T180000
DTEND;TZID=Europe/Helsinki:20251010T180000
DTSTAMP:20260419T212138
CREATED:20250926T052419Z
LAST-MODIFIED:20250926T053106Z
UID:7264-1760119200-1760119200@www.mallaskoskenpanimoravintola.fi
SUMMARY:RAPUJUHLAT
DESCRIPTION:Riemukkaita rapujuhlia vietetään pe 10.10. Mallaskosken Panimoravintolassa. Luvassa on saksiniekkojen peittoamista ja rapulauluja. Mukana saa juoda\, laulaa ja nauraa eli ilta kuluu hilpeissä tunnelmissa. Rapujen selätyksessä henkilökunta auttaa\, joten ensikertalaisten on helppo lähteä mukaan. Nämä eivät ole pukujuhlat vaan rempseät illanistujaiset rapujen parissa. Avaa siis äänihuulesi koska näissä juhlissa raikaa rapulaulut! \nTulkaa paikalle klo 18\, koska klo 18:30 alkaa yhteisesti etenevä illanvietto. Kesto noin 4 tuntia \nMENU\nSalaattipöytä: Vihersalaattia\, metsäsienisalaattia (L\,G)\, perunasalaattia (L\,G)\, pinaattia ja punajuurta salaattijuustolla (L) ja balsamicolla\, marinoitua kaalisalaattia. \nRapuja 8-12 kpl/hlö\, 12-15 cm. \nPaahtoleipää\, voita ja tilliä \nKahvi/tee ja olutsuklaakakkua vaniliavaahdolla \nHinta 62 €/hlö. \nHinta ei sisällä alkoholijuomia.\nPöytävaraukset: ravintola@panimoravinto.la
URL:https://www.mallaskoskenpanimoravintola.fi/tapahtuma/rapujuhlat/
LOCATION:Mallaskosken Panimoravintola\, Vesitorninkatu 1\, Seinäjoki\, Etelä-pohjanmaa\, 60100\, Suomi
ORGANIZER;CN="Mallaskosken Panimoravintola":MAILTO:ravintola@panimoravinto.la
END:VEVENT
END:VCALENDAR