BEGIN:VCALENDAR
VERSION:2.0
PRODID:-//Mallaskosken Panimoravintola - ECPv6.15.20//NONSGML v1.0//EN
CALSCALE:GREGORIAN
METHOD:PUBLISH
X-WR-CALNAME:Mallaskosken Panimoravintola
X-ORIGINAL-URL:https://www.mallaskoskenpanimoravintola.fi
X-WR-CALDESC:Tapahtumat Mallaskosken Panimoravintola
REFRESH-INTERVAL;VALUE=DURATION:PT1H
X-Robots-Tag:noindex
X-PUBLISHED-TTL:PT1H
BEGIN:VTIMEZONE
TZID:Europe/Helsinki
BEGIN:DAYLIGHT
TZOFFSETFROM:+0200
TZOFFSETTO:+0300
TZNAME:EEST
DTSTART:20240331T010000
END:DAYLIGHT
BEGIN:STANDARD
TZOFFSETFROM:+0300
TZOFFSETTO:+0200
TZNAME:EET
DTSTART:20241027T010000
END:STANDARD
BEGIN:DAYLIGHT
TZOFFSETFROM:+0200
TZOFFSETTO:+0300
TZNAME:EEST
DTSTART:20250330T010000
END:DAYLIGHT
BEGIN:STANDARD
TZOFFSETFROM:+0300
TZOFFSETTO:+0200
TZNAME:EET
DTSTART:20251026T010000
END:STANDARD
BEGIN:DAYLIGHT
TZOFFSETFROM:+0200
TZOFFSETTO:+0300
TZNAME:EEST
DTSTART:20260329T010000
END:DAYLIGHT
BEGIN:STANDARD
TZOFFSETFROM:+0300
TZOFFSETTO:+0200
TZNAME:EET
DTSTART:20261025T010000
END:STANDARD
END:VTIMEZONE
BEGIN:VEVENT
DTSTART;TZID=Europe/Helsinki:20250604T180000
DTEND;TZID=Europe/Helsinki:20250726T170000
DTSTAMP:20260419T171002
CREATED:20250322T054426Z
LAST-MODIFIED:20250608T075800Z
UID:7073-1749060000-1753549200@www.mallaskoskenpanimoravintola.fi
SUMMARY:Koko rahalla- revyy teatteriterassilla
DESCRIPTION:  \n  \n  \n  \nIkimuistoinen ilta Mallaskoskella riehakkaan revyyn parissa. Koko rahalla -revyy takaa koko kesän hauskimman illan! Parin tunnin aikana\nmusiikin väkevä voima vie meidät Baselista saunaan ja tunnelmasta toiseen. Koko rahalla -revyy osuu nauruhermoon iskuporakoneen lailla ja aiheuttaa spontaania vatsalihastreeniä. Velkalaiva seilaa\, suunta on auki\, koska ohjaus puoltaa\, liekö ankkuri pohjassa… Kun show starttaa\, se vyöryttää yleisön eteen sellaisen ajankohtais“satsauksen”\, ettei vauhtia tai vaarallisia tilanteita juuri enempää kaipaile. Kupliva\, poreileva\, hilpeä ja pirskahteleva ilta on varmasti myös gluteeniton ja laktoositon.\nMihin tämä maailma on menossa? Kela kehottaa muuttamaan\, leipäjonoissa mennään letkistä ja huutokaupassa Ahvenanmaa ja Anoppi. Onko karisma kateissa ja Orpo olo? Väsyttää\, eikä mikään tahdo Purra? Tämä tehopakkaus sisältää meikkivinkit\, joogat\, terapiat – ja kaikki tämä kahdessa tunnissa. Nyt ei nuukailla\, Teatteri Rajapinta naurattaa Koko rahalla! Tervetuloa viihtymään! \nKoko rahalla -revyyn näytökset Mallaskosken panimoravintolan\nTeatteriterassilla 4.6.2025 alkaen. \nSEURAAVAT ESITYKSET HEINÄKUUSSA: 23.7. klo 18\, 24.7. klo 18\, 25.7. klo. 18\, 26.7. klo 14. \nLiput \nPeruslippu 32 € ennakkoon. (ovelta 35 €) \nAlennusryhmä 29 € ennakkoon. (ovelta 32 €) \nLapset 13-16v. 13 € ennakkoon- (ovelta 16 €) \nEnnakkomyynti ryhmille min. 25 hlö: \ntuottaja@teatterirajapinta.fi \nLisätietoja: \nwww.teatterirajapinta.fi \nOSTA LIPUT TÄÄLTÄ! \nhttps://biletti.fi/e/koko-rahalla-revyy \nJos haluatte syödä ennen tai jälkeen keikan\, niin suosittelemma pöytävarausta ja sehän onnistuu: ravintola@mallaskoskenpanimoravinto.fi \nRuokalistaan tästä: https://www.mallaskoskenpanimoravintola.fi/ruoka/ \nKöydet alaterassille aukeaa noin klo 17:30. Showtime on klo 18:00-20:00. Välissä on juomanhaku- ja hiekkalaatikkotauko. \nKatsomo on osittain katettu. \nIstumapaikat ovat numeroimattomat eli vapaasti valittavissa. \nAnniskeluoikeudet. \nTERVETULOA!
URL:https://www.mallaskoskenpanimoravintola.fi/tapahtuma/koko-rahalla-revyy-teatteriterassilla/
LOCATION:Mallaskosken Panimoravintola\, Vesitorninkatu 1\, Seinäjoki\, Etelä-pohjanmaa\, 60100\, Suomi
CATEGORIES:Koko rahalla- revyy
ORGANIZER;CN="Teatteri Rajapinta":MAILTO:tuottaja@teatterirajapinta.fi
END:VEVENT
BEGIN:VEVENT
DTSTART;TZID=Europe/Helsinki:20250704T180000
DTEND;TZID=Europe/Helsinki:20250704T200000
DTSTAMP:20260419T171002
CREATED:20230525T065724Z
LAST-MODIFIED:20250608T074631Z
UID:6638-1751652000-1751659200@www.mallaskoskenpanimoravintola.fi
SUMMARY:Tornilla tavataan\, Stand up klubit: LAGERQUIST VS TEURIS
DESCRIPTION:Mallaskosken Panimoravintolan Stand Up Klubit Teatteriterassilla. Nauretaan jälleen tänä kesänä\, kun tutut koomikot valtaavat Seinäjoen tunnelmallisimman terassin lavan! Kuumaa komiikkaa kesään siis luvassa! Muista ostaa lippusi ennakkoon ettet jää ilman! \nKATSOMO OSITTAIN KATETTU! \nShowtime parisen tuntia klo 18-20\, sisältää juomanhaku- ja hiekkalaatikkotauon \nLiput ennakkoon 15 €\, ovelta 18 €. Tuosta linkistä ennakkoliput: https://mallastupa.eventiolive.fi/ \nSuositeltu ikäraja K-15 \nkatsomo löytyy ensimmäiselle 100 hengelle! \nTornilla Tavataan ja nauretaan jälleen tänä kesänä\, kun Suomen tunnelmallisimmalla teatteriterassilla nähdään koomikoita läheltä ja kaukaa. Pe 4.7 lavan valtaa kaksi hyvin erilaista miestä. Yksi on syntyjään vaasasta ja toinen heistä ei välttämättä ole edes tältä planeetalta.  Tule aloittamaan viikonloppusi parhaalla mahdollisella tavalla… Eli nauraen ja raikkaista juomista nautiskellen! \n\nJONATHAN LAGERQUIST on Suomen köyhin suomenruotsalainen\, mutta hauskin! Ja yksi suomalaisista koomikoista\, jonka yleisö voi tunnistaa myös ilman housuja. Tapaukseen ei liity rikosta vaan televisio-ohjelma. #mitävaintvkreditinvuoksi #näyttäähyvältäCVssä\n\nTEURIS on Vuoden stand up -tulokas -kilpailun finalisti\, myöhemmin koko Suomen stand up -alan omaperäisimmäksi ja omituisimmaksi tituleerattu\, jo lähes kulttimaineen saavuttanut esiintyjä!\n\nLavalla myös: Niilo Rauhanen ja Sanni Utriainen.\n\nENNAKKOLIPUT https://mallastupa.eventiolive.fi/ 15€/kpl.(Ovelta ennen esitystä: 18€/kpl)\n SHOWTIME klo 18.00\n Ikäraja K-15ja kuten aina katettu katsomo löytyy ensimmäiselle 100 katsojalle!\n\nVesitorninkatu1\, 60100 SeinäjokiLisää infoa: paikallinenkoomikko@gmail.com#tornillatavataan #standupfi
URL:https://www.mallaskoskenpanimoravintola.fi/tapahtuma/lagerquist-teuris/
LOCATION:Mallaskosken Panimoravintola\, Vesitorninkatu 1\, Seinäjoki\, Etelä-pohjanmaa\, 60100\, Suomi
CATEGORIES:Stand Up
ORGANIZER;CN="Joonas Moisio":MAILTO:paikallinenkoomikko@gmail.com
END:VEVENT
BEGIN:VEVENT
DTSTART;TZID=Europe/Helsinki:20250704T200000
DTEND;TZID=Europe/Helsinki:20250704T220000
DTSTAMP:20260419T171002
CREATED:20250404T075106Z
LAST-MODIFIED:20250404T075106Z
UID:7087-1751659200-1751666400@www.mallaskoskenpanimoravintola.fi
SUMMARY:Jay & Bros
DESCRIPTION:Seppo Suvisalmi Guitar \nPertti Suvisalmi Bass \nKari Suvisalmi drums \nJarmo Nuottajärvi Vocals and Gtr
URL:https://www.mallaskoskenpanimoravintola.fi/tapahtuma/jay-bros/
LOCATION:Mallaskosken Panimoravintola\, Vesitorninkatu 1\, Seinäjoki\, Etelä-pohjanmaa\, 60100\, Suomi
CATEGORIES:Musiikki
ORGANIZER;CN="Mallaskosken Panimoravintola":MAILTO:ravintola@panimoravinto.la
END:VEVENT
END:VCALENDAR