BEGIN:VCALENDAR
VERSION:2.0
PRODID:-//Mallaskosken Panimoravintola - ECPv6.15.20//NONSGML v1.0//EN
CALSCALE:GREGORIAN
METHOD:PUBLISH
X-ORIGINAL-URL:https://www.mallaskoskenpanimoravintola.fi
X-WR-CALDESC:Tapahtumat Mallaskosken Panimoravintola
REFRESH-INTERVAL;VALUE=DURATION:PT1H
X-Robots-Tag:noindex
X-PUBLISHED-TTL:PT1H
BEGIN:VTIMEZONE
TZID:Europe/Helsinki
BEGIN:DAYLIGHT
TZOFFSETFROM:+0200
TZOFFSETTO:+0300
TZNAME:EEST
DTSTART:20240331T010000
END:DAYLIGHT
BEGIN:STANDARD
TZOFFSETFROM:+0300
TZOFFSETTO:+0200
TZNAME:EET
DTSTART:20241027T010000
END:STANDARD
BEGIN:DAYLIGHT
TZOFFSETFROM:+0200
TZOFFSETTO:+0300
TZNAME:EEST
DTSTART:20250330T010000
END:DAYLIGHT
BEGIN:STANDARD
TZOFFSETFROM:+0300
TZOFFSETTO:+0200
TZNAME:EET
DTSTART:20251026T010000
END:STANDARD
BEGIN:DAYLIGHT
TZOFFSETFROM:+0200
TZOFFSETTO:+0300
TZNAME:EEST
DTSTART:20260329T010000
END:DAYLIGHT
BEGIN:STANDARD
TZOFFSETFROM:+0300
TZOFFSETTO:+0200
TZNAME:EET
DTSTART:20261025T010000
END:STANDARD
END:VTIMEZONE
BEGIN:VEVENT
DTSTART;TZID=Europe/Helsinki:20250604T180000
DTEND;TZID=Europe/Helsinki:20250726T170000
DTSTAMP:20260419T172150
CREATED:20250322T054426Z
LAST-MODIFIED:20250608T075800Z
UID:7073-1749060000-1753549200@www.mallaskoskenpanimoravintola.fi
SUMMARY:Koko rahalla- revyy teatteriterassilla
DESCRIPTION:  \n  \n  \n  \nIkimuistoinen ilta Mallaskoskella riehakkaan revyyn parissa. Koko rahalla -revyy takaa koko kesän hauskimman illan! Parin tunnin aikana\nmusiikin väkevä voima vie meidät Baselista saunaan ja tunnelmasta toiseen. Koko rahalla -revyy osuu nauruhermoon iskuporakoneen lailla ja aiheuttaa spontaania vatsalihastreeniä. Velkalaiva seilaa\, suunta on auki\, koska ohjaus puoltaa\, liekö ankkuri pohjassa… Kun show starttaa\, se vyöryttää yleisön eteen sellaisen ajankohtais“satsauksen”\, ettei vauhtia tai vaarallisia tilanteita juuri enempää kaipaile. Kupliva\, poreileva\, hilpeä ja pirskahteleva ilta on varmasti myös gluteeniton ja laktoositon.\nMihin tämä maailma on menossa? Kela kehottaa muuttamaan\, leipäjonoissa mennään letkistä ja huutokaupassa Ahvenanmaa ja Anoppi. Onko karisma kateissa ja Orpo olo? Väsyttää\, eikä mikään tahdo Purra? Tämä tehopakkaus sisältää meikkivinkit\, joogat\, terapiat – ja kaikki tämä kahdessa tunnissa. Nyt ei nuukailla\, Teatteri Rajapinta naurattaa Koko rahalla! Tervetuloa viihtymään! \nKoko rahalla -revyyn näytökset Mallaskosken panimoravintolan\nTeatteriterassilla 4.6.2025 alkaen. \nSEURAAVAT ESITYKSET HEINÄKUUSSA: 23.7. klo 18\, 24.7. klo 18\, 25.7. klo. 18\, 26.7. klo 14. \nLiput \nPeruslippu 32 € ennakkoon. (ovelta 35 €) \nAlennusryhmä 29 € ennakkoon. (ovelta 32 €) \nLapset 13-16v. 13 € ennakkoon- (ovelta 16 €) \nEnnakkomyynti ryhmille min. 25 hlö: \ntuottaja@teatterirajapinta.fi \nLisätietoja: \nwww.teatterirajapinta.fi \nOSTA LIPUT TÄÄLTÄ! \nhttps://biletti.fi/e/koko-rahalla-revyy \nJos haluatte syödä ennen tai jälkeen keikan\, niin suosittelemma pöytävarausta ja sehän onnistuu: ravintola@mallaskoskenpanimoravinto.fi \nRuokalistaan tästä: https://www.mallaskoskenpanimoravintola.fi/ruoka/ \nKöydet alaterassille aukeaa noin klo 17:30. Showtime on klo 18:00-20:00. Välissä on juomanhaku- ja hiekkalaatikkotauko. \nKatsomo on osittain katettu. \nIstumapaikat ovat numeroimattomat eli vapaasti valittavissa. \nAnniskeluoikeudet. \nTERVETULOA!
URL:https://www.mallaskoskenpanimoravintola.fi/tapahtuma/koko-rahalla-revyy-teatteriterassilla/
LOCATION:Mallaskosken Panimoravintola\, Vesitorninkatu 1\, Seinäjoki\, Etelä-pohjanmaa\, 60100\, Suomi
CATEGORIES:Koko rahalla- revyy
ORGANIZER;CN="Teatteri Rajapinta":MAILTO:tuottaja@teatterirajapinta.fi
END:VEVENT
BEGIN:VEVENT
DTSTART;TZID=Europe/Helsinki:20250614T140000
DTEND;TZID=Europe/Helsinki:20250614T230000
DTSTAMP:20260419T172150
CREATED:20250404T074417Z
LAST-MODIFIED:20250608T073918Z
UID:7085-1749909600-1749942000@www.mallaskoskenpanimoravintola.fi
SUMMARY:Alamaa Fest
DESCRIPTION:SEMC ry presents Alamaa Fest 14.6.2025 @ Seinäjoki\, Mallaskosken Panimoravintola\n\nJokainen kaipaa hieman rytmiä elämään!!\nElektronisen musiikin juhla- Alamaa Fest järjestetään ihan ensimmäistä kertaa ja paikkana on\, Mallaskosken panimoravintola!\nKesäkuisena lauantaina Seinäjoen elektronisen musiikin yhdistyksen (SEMC) toimijat keräävät lauteille paikallisia musiikin tuottajia sekä Dj:tä. Alue valaistaan ja koristellaan asianmukaiseen tyyliin\, nostaen esiin taiteenmuotoja\, joita usein näkee vain UG-tapahtumissa!! SEMC on tuottanut Seinäjoella elektronisen musiikin tapahtumia jo vuodesta 2018.\nKyseessä on siis matalan kynnyksen tapahtuma\, jossa nautitaan ulkoilmasta ja mukavasta seurasta elektronisen tanssimusiikin tahdittamana. Tapahtumassa musiikkia soittaa useampi paikallinen DJ\, joilta on luvassa monipuolinen kattaus erilaista konemusabiittiin pohjautuvaa rytmimusiikkia.\nTanssimisen lisäksi on luvassa oheisohjelmaa! Mukana on paikallista sirkusosaamista\, kun Sirkus Muudi sekä MovingDecos astuvat lauteille. Tapahtumapaikalta löytyy myös Mallaskosken panimoravintolan palvelut kaikessa loistossaan!\nSeinäjokisten toiveisiin on siis nyt vastattu\, kun järjestämme tällaisen matalan kynnyksen tapahtumakokonaisuuden\, jossa tutustutaan elektroniseen tanssimusiikkiin ja sen ympärille muodostuneisiin taiteisiin ja ilmiöihin. Tervetuloa nauttimaan mukavasta kesäpäivästä ja -yöstä kanssamme!\nLiput: ennakko 8 € (https://holvi.com/…/produ…/585e0364ffb8d30b074ee9dddaf0817c/)\n10 € portilta.Tapahtumaan mahtuu mukaan maksimissaan 80-100 henkilöä.\nMeillä on käytössä turvallisemman tilan periaatteet! Kunnioitathan siis jokaisen henkilökohtaista tilaa ja käyttäydyt asiallisesti. Mikäli havaitset jotain häiritsevää tai epäasiallista toimintaa\, niin tulethan sanomaan siitä heti jollekin tapahtuman järjestäjistä. Järjestäjät tunnistat STAFF -passista.
URL:https://www.mallaskoskenpanimoravintola.fi/tapahtuma/alamaa-fest/
LOCATION:Mallaskosken Panimoravintola\, Vesitorninkatu 1\, Seinäjoki\, Etelä-pohjanmaa\, 60100\, Suomi
CATEGORIES:Musiikki
ORGANIZER;CN="Mallaskosken Panimoravintola":MAILTO:ravintola@panimoravinto.la
END:VEVENT
END:VCALENDAR