BEGIN:VCALENDAR
VERSION:2.0
PRODID:-//Mallaskosken Panimoravintola - ECPv6.15.20//NONSGML v1.0//EN
CALSCALE:GREGORIAN
METHOD:PUBLISH
X-ORIGINAL-URL:https://www.mallaskoskenpanimoravintola.fi
X-WR-CALDESC:Tapahtumat Mallaskosken Panimoravintola
REFRESH-INTERVAL;VALUE=DURATION:PT1H
X-Robots-Tag:noindex
X-PUBLISHED-TTL:PT1H
BEGIN:VTIMEZONE
TZID:Europe/Helsinki
BEGIN:DAYLIGHT
TZOFFSETFROM:+0200
TZOFFSETTO:+0300
TZNAME:EEST
DTSTART:20230326T010000
END:DAYLIGHT
BEGIN:STANDARD
TZOFFSETFROM:+0300
TZOFFSETTO:+0200
TZNAME:EET
DTSTART:20231029T010000
END:STANDARD
BEGIN:DAYLIGHT
TZOFFSETFROM:+0200
TZOFFSETTO:+0300
TZNAME:EEST
DTSTART:20240331T010000
END:DAYLIGHT
BEGIN:STANDARD
TZOFFSETFROM:+0300
TZOFFSETTO:+0200
TZNAME:EET
DTSTART:20241027T010000
END:STANDARD
BEGIN:DAYLIGHT
TZOFFSETFROM:+0200
TZOFFSETTO:+0300
TZNAME:EEST
DTSTART:20250330T010000
END:DAYLIGHT
BEGIN:STANDARD
TZOFFSETFROM:+0300
TZOFFSETTO:+0200
TZNAME:EET
DTSTART:20251026T010000
END:STANDARD
END:VTIMEZONE
BEGIN:VEVENT
DTSTART;TZID=Europe/Helsinki:20240628T200000
DTEND;TZID=Europe/Helsinki:20240628T220000
DTSTAMP:20260421T164811
CREATED:20240503T160019Z
LAST-MODIFIED:20240503T160019Z
UID:6822-1719604800-1719612000@www.mallaskoskenpanimoravintola.fi
SUMMARY:Make Tommila
DESCRIPTION:
URL:https://www.mallaskoskenpanimoravintola.fi/tapahtuma/make-tommila/
LOCATION:Mallaskosken Panimoravintola\, Vesitorninkatu 1\, Seinäjoki\, Etelä-pohjanmaa\, 60100\, Suomi
CATEGORIES:Musiikki
ORGANIZER;CN="Mallaskosken Panimoravintola":MAILTO:ravintola@panimoravinto.la
END:VEVENT
END:VCALENDAR