BEGIN:VCALENDAR
VERSION:2.0
PRODID:-//Mallaskosken Panimoravintola - ECPv6.15.20//NONSGML v1.0//EN
CALSCALE:GREGORIAN
METHOD:PUBLISH
X-ORIGINAL-URL:https://www.mallaskoskenpanimoravintola.fi
X-WR-CALDESC:Tapahtumat Mallaskosken Panimoravintola
REFRESH-INTERVAL;VALUE=DURATION:PT1H
X-Robots-Tag:noindex
X-PUBLISHED-TTL:PT1H
BEGIN:VTIMEZONE
TZID:Europe/Helsinki
BEGIN:DAYLIGHT
TZOFFSETFROM:+0200
TZOFFSETTO:+0300
TZNAME:EEST
DTSTART:20220327T010000
END:DAYLIGHT
BEGIN:STANDARD
TZOFFSETFROM:+0300
TZOFFSETTO:+0200
TZNAME:EET
DTSTART:20221030T010000
END:STANDARD
BEGIN:DAYLIGHT
TZOFFSETFROM:+0200
TZOFFSETTO:+0300
TZNAME:EEST
DTSTART:20230326T010000
END:DAYLIGHT
BEGIN:STANDARD
TZOFFSETFROM:+0300
TZOFFSETTO:+0200
TZNAME:EET
DTSTART:20231029T010000
END:STANDARD
BEGIN:DAYLIGHT
TZOFFSETFROM:+0200
TZOFFSETTO:+0300
TZNAME:EEST
DTSTART:20240331T010000
END:DAYLIGHT
BEGIN:STANDARD
TZOFFSETFROM:+0300
TZOFFSETTO:+0200
TZNAME:EET
DTSTART:20241027T010000
END:STANDARD
END:VTIMEZONE
BEGIN:VEVENT
DTSTART;TZID=Europe/Helsinki:20230617T200000
DTEND;TZID=Europe/Helsinki:20230617T220000
DTSTAMP:20260425T221220
CREATED:20230511T101833Z
LAST-MODIFIED:20230511T102004Z
UID:6602-1687032000-1687039200@www.mallaskoskenpanimoravintola.fi
SUMMARY:Who Stole The Lipstick
DESCRIPTION:https://www.facebook.com/profile.php?id=100086728107597
URL:https://www.mallaskoskenpanimoravintola.fi/tapahtuma/who-stole-the-lipstick/
LOCATION:Mallaskosken Panimoravintola\, Vesitorninkatu 1\, Seinäjoki\, Etelä-pohjanmaa\, 60100\, Suomi
CATEGORIES:Musiikki
ORGANIZER;CN="Mallaskosken Panimoravintola":MAILTO:ravintola@panimoravinto.la
END:VEVENT
END:VCALENDAR